BEGIN:VCALENDAR
VERSION:2.0
PRODID:-//FutureForward™ - ECPv6.15.17.1//NONSGML v1.0//EN
CALSCALE:GREGORIAN
METHOD:PUBLISH
X-WR-CALNAME:FutureForward™
X-ORIGINAL-URL:https://futureforward.org
X-WR-CALDESC:Events for FutureForward™
REFRESH-INTERVAL;VALUE=DURATION:PT1H
X-Robots-Tag:noindex
X-PUBLISHED-TTL:PT1H
BEGIN:VTIMEZONE
TZID:America/Chicago
BEGIN:DAYLIGHT
TZOFFSETFROM:-0600
TZOFFSETTO:-0500
TZNAME:CDT
DTSTART:20230312T080000
END:DAYLIGHT
BEGIN:STANDARD
TZOFFSETFROM:-0500
TZOFFSETTO:-0600
TZNAME:CST
DTSTART:20231105T070000
END:STANDARD
BEGIN:DAYLIGHT
TZOFFSETFROM:-0600
TZOFFSETTO:-0500
TZNAME:CDT
DTSTART:20240310T080000
END:DAYLIGHT
BEGIN:STANDARD
TZOFFSETFROM:-0500
TZOFFSETTO:-0600
TZNAME:CST
DTSTART:20241103T070000
END:STANDARD
BEGIN:DAYLIGHT
TZOFFSETFROM:-0600
TZOFFSETTO:-0500
TZNAME:CDT
DTSTART:20250309T080000
END:DAYLIGHT
BEGIN:STANDARD
TZOFFSETFROM:-0500
TZOFFSETTO:-0600
TZNAME:CST
DTSTART:20251102T070000
END:STANDARD
BEGIN:DAYLIGHT
TZOFFSETFROM:-0600
TZOFFSETTO:-0500
TZNAME:CDT
DTSTART:20260308T080000
END:DAYLIGHT
BEGIN:STANDARD
TZOFFSETFROM:-0500
TZOFFSETTO:-0600
TZNAME:CST
DTSTART:20261101T070000
END:STANDARD
END:VTIMEZONE
BEGIN:VEVENT
DTSTART;TZID=America/Chicago:20251118T100000
DTEND;TZID=America/Chicago:20251118T150000
DTSTAMP:20260421T161325
CREATED:20250722T142650Z
LAST-MODIFIED:20250722T142650Z
UID:10000258-1763460000-1763478000@futureforward.org
SUMMARY:STEAM Summit 2025
DESCRIPTION:STEAM Summit Mission and Overview:\nThe STEAM Summit encourages over 3\,000 middle and high school students to pursue science\, technology\, engineering\, art\, and math careers by connecting them to business and higher educational institutions which offer STEAM courses in a highly interactive\, hands-on format. \nThe future success of the Southeast Minnesota economy depends on a well-prepared pipeline of students with the education and skills needed to keep the region’s businesses and industries competitive. This summit brings together 100+ businesses\, higher education\, local government and our community to motivate and prepare students for an increasingly competitive global marketplace. \nDate and Time\nTuesday Nov 18\, 2025\n10:00 AM – 3:00 PM CST \n\n\n10:00am – 11:15am | Session 1 – High School Students\n\n11:30am – 12:45pm | Session 2 – Middle School Students\n\n1:30pm – 2:45pm | Session 3 – High School Students\n\n\nQuestions\nFor questions please contact Shannon Gowen at sgowen@rochestermnchamber.com or Claire Henneman at chenneman@rochestermnchamber.com.
URL:https://futureforward.org/event/steam-summit-2025/
LOCATION:Rochester Community and Technical College – Field House\, Select a Country:
ATTACH;FMTTYPE=image/jpeg:https://futureforward.org/wp-content/uploads/2023/05/steam-logo.jpg
ORGANIZER;CN="Rochester Area Chamber of Commerce":MAILTO:chamber@rochestermnchamber.com
END:VEVENT
BEGIN:VEVENT
DTSTART;TZID=America/Chicago:20241112T090000
DTEND;TZID=America/Chicago:20241112T140000
DTSTAMP:20260421T161325
CREATED:20231115T170440Z
LAST-MODIFIED:20240904T164258Z
UID:10000052-1731402000-1731420000@futureforward.org
SUMMARY:STEAM Summit 2024
DESCRIPTION:STEAM Summit Mission and Overview:\nThe STEAM Summit encourages over 1\,000 middle and high school students to pursue science\, technology\, engineering\, art\, and math careers by connecting them to business and higher educational institutions which offer STEAM courses in a highly interactive\, hands-on format. \nThe future success of the Southeast Minnesota economy depends on a well-prepared pipeline of students with the education and skills needed to keep the region’s business and industry competitive. This summit brings together 50+ businesses\, higher education\, local government and our community to motivate and prepare students for an increasingly competitive global marketplace. \nQuestions\nFor questions please contact Ally Sheehan at asheehan@rochestermnchamber.com.
URL:https://futureforward.org/event/steam-summit-2024/
LOCATION:Rochester Community and Technical College – Field House\, Select a Country:
ATTACH;FMTTYPE=image/jpeg:https://futureforward.org/wp-content/uploads/2023/05/steam-logo.jpg
ORGANIZER;CN="Rochester Area Chamber of Commerce":MAILTO:chamber@rochestermnchamber.com
END:VEVENT
BEGIN:VEVENT
DTSTART;VALUE=DATE:20240608
DTEND;VALUE=DATE:20240609
DTSTAMP:20260421T161325
CREATED:20240208T225024Z
LAST-MODIFIED:20240208T225024Z
UID:10000085-1717804800-1717891199@futureforward.org
SUMMARY:Lemonade Day - Rochester\, MN
DESCRIPTION:Squeeze The Day! Help us empower today’s youth to be tomorrow’s entrepreneurs! \nLemonade Day is a free\, fun\, experiential learning program that teaches local youth entrepreneurial and life skills as they learn how to start their very own business. Learn how to develop a business and experience all the aspects of developing and maintaining a business such as creating a product\, establishing a budget\, designing a marketing plan\, and so much more! \nThe foremost objective of Lemonade Day is to empower youth to take ownership of their lives and become productive members of society – the business leaders\, social advocates\, volunteers\, and forward thinking citizens of tomorrow. \nEach child that registers receives access to the Lemonade Day curriculum that teaches them lessons like creating budgets\, setting profit-making goals\, serving customers\, repaying investors\, and giving back to the community. Along the way\, they acquire skills in goal-setting\, problem solving\, and gain self-esteem critical for future success. They keep all the money they make and are encouraged to spend some\, save some and share some. \nOnce you register you will get an email explaining the next steps. Workbooks and Backpacks have been ordered and will soon arrive at the Chamber office. Once we get them in we will send you an email explaining how to pick them up\, either at our office or by attending one of our upcoming events. \nLemonade Day – June 8\, 2024 \nGoing on vacation or away from Rochester during Lemonade Day on June 8? No worries\, Lemonade Day is about the journey and the process! We encourage you to make your lemonade stand work within your family’s plans. \nJoin our Lemonade Day Facebook page for updates and information. We will also be sending out emails as we get closer to June with tips and tricks\, lemonade recipe ideas and more! Be sure to share this event with your friends\, family and co-workers! \nReach out to Ally Sheehan at asheehan@rochestermnchamber.com with questions!
URL:https://futureforward.org/event/lemonade-day-rochester-mn-2/
ATTACH;FMTTYPE=image/jpeg:https://futureforward.org/wp-content/uploads/2024/02/LD-Full-Page-Advantage-Ad-SAVE-THE-DATE-scaled.jpg
ORGANIZER;CN="Rochester Area Chamber of Commerce":MAILTO:chamber@rochestermnchamber.com
END:VEVENT
END:VCALENDAR