BEGIN:VCALENDAR
VERSION:2.0
PRODID:-//FutureForward™ - ECPv6.15.17.1//NONSGML v1.0//EN
CALSCALE:GREGORIAN
METHOD:PUBLISH
X-WR-CALNAME:FutureForward™
X-ORIGINAL-URL:https://futureforward.org
X-WR-CALDESC:Events for FutureForward™
REFRESH-INTERVAL;VALUE=DURATION:PT1H
X-Robots-Tag:noindex
X-PUBLISHED-TTL:PT1H
BEGIN:VTIMEZONE
TZID:America/Chicago
BEGIN:DAYLIGHT
TZOFFSETFROM:-0600
TZOFFSETTO:-0500
TZNAME:CDT
DTSTART:20250309T080000
END:DAYLIGHT
BEGIN:STANDARD
TZOFFSETFROM:-0500
TZOFFSETTO:-0600
TZNAME:CST
DTSTART:20251102T070000
END:STANDARD
BEGIN:DAYLIGHT
TZOFFSETFROM:-0600
TZOFFSETTO:-0500
TZNAME:CDT
DTSTART:20260308T080000
END:DAYLIGHT
BEGIN:STANDARD
TZOFFSETFROM:-0500
TZOFFSETTO:-0600
TZNAME:CST
DTSTART:20261101T070000
END:STANDARD
BEGIN:DAYLIGHT
TZOFFSETFROM:-0600
TZOFFSETTO:-0500
TZNAME:CDT
DTSTART:20270314T080000
END:DAYLIGHT
BEGIN:STANDARD
TZOFFSETFROM:-0500
TZOFFSETTO:-0600
TZNAME:CST
DTSTART:20271107T070000
END:STANDARD
END:VTIMEZONE
BEGIN:VEVENT
DTSTART;TZID=America/Chicago:20260101T080000
DTEND;TZID=America/Chicago:20261231T170000
DTSTAMP:20260423T050527
CREATED:20260218T232618Z
LAST-MODIFIED:20260218T232618Z
UID:10000306-1767254400-1798736400@futureforward.org
SUMMARY:Mayo Clinic Career Webinars
DESCRIPTION:These webinars are designed to provide guidance through Mayo Clinic’s application and interviewing process\, along with highlighting the many career opportunities available at Mayo Clinic. \nCRNA Insider Pathway to Success: Navigating Your Career Journey\nFebruary 24\, 2026 – 4:30 p.m. CST \nX-Ray – The Foundation of Diagnostic Imaging\nFebruary 26\, 2026 – 1:00p.m. CST \nDLMP – Phlebotomy\nMarch 17\, 2026 – 12:00 p.m. CST \nCT & MRI – Advanced Imaging for Precision Care\nMay 7\, 2026 – 1:00 p.m. CST \nDLMP – Lab Assistant (LA)/Lab Processing Assistant (LPA)/Referral Specialists\nMay 19\, 2026 – 12:00 p.m. CST \nDLMP – CLT/CLS/Histology/Cytology\nJuly 21\, 2026 – 12:00 p.m. CST \nInterventional Radiology – Where Imaging Meets Innovation\nSeptember 8\, 2026 – 1:00 p.m. CST \nDLMP – Phlebotomy\nSeptember 15\, 2026 – 12:00 p.m. CST \nDLMP – LA/LPA/Referral Specialists\nNovember 10\, 2026 – 12:00 p.m. CST \nNuclear Medicine – Imaging Beyond Anatomy\nNovember 17\, 2026 – 1:00 p.m. CST
URL:https://futureforward.org/event/mayo-clinic-career-webinars/2026-01-01/
LOCATION:Minnesota
ATTACH;FMTTYPE=image/jpeg:https://futureforward.org/wp-content/uploads/2026/01/2024-College-webinar-flyer-1.jpg
ORGANIZER;CN="Mayo Clinc Workforce Development":MAILTO:workforcedevelopment@mayo.edu
END:VEVENT
BEGIN:VEVENT
DTSTART;TZID=America/Chicago:20260423T080000
DTEND;TZID=America/Chicago:20260423T170000
DTSTAMP:20260423T050527
CREATED:20260422T152838Z
LAST-MODIFIED:20260422T152908Z
UID:10000339-1776931200-1776963600@futureforward.org
SUMMARY:2026 Iron Range Job & Volunteer Fair
DESCRIPTION:The 2026 Iron Range Job Fair is your opportunity to connect with top talent in the region. With over 500+ attendees in 2025\, this event is a proven success for businesses looking to grow their teams. Don’t miss your chance to network with job seekers eager to explore careers in various industries. \nExplore Careers with 70+ Local Employers.\nFor more information about this event\, please visit our Facebook page.
URL:https://futureforward.org/event/2026-iron-range-job-volunteer-fair/2026-04-23/1/
LOCATION:Iron Trail Motors Event Center\, 919 6th Street South\, Virginia\, MN\, 55792\, United States
ATTACH;FMTTYPE=image/jpeg:https://futureforward.org/wp-content/uploads/2026/04/2026-IRJF-Program-JPG-768x994-1.jpg
ORGANIZER;CN="Teresa Appelwick":MAILTO:President@laurentianchamber.org
GEO:47.5179237;-92.5483818
X-APPLE-STRUCTURED-LOCATION;VALUE=URI;X-ADDRESS=Iron Trail Motors Event Center 919 6th Street South Virginia MN 55792 United States;X-APPLE-RADIUS=500;X-TITLE=919 6th Street South:geo:-92.5483818,47.5179237
END:VEVENT
BEGIN:VEVENT
DTSTART;TZID=America/Chicago:20260423T100000
DTEND;TZID=America/Chicago:20260423T140000
DTSTAMP:20260423T050527
CREATED:20260422T152838Z
LAST-MODIFIED:20260422T152908Z
UID:10000340-1776938400-1776952800@futureforward.org
SUMMARY:2026 Iron Range Job & Volunteer Fair
DESCRIPTION:The 2026 Iron Range Job Fair is your opportunity to connect with top talent in the region. With over 500+ attendees in 2025\, this event is a proven success for businesses looking to grow their teams. Don’t miss your chance to network with job seekers eager to explore careers in various industries. \nExplore Careers with 70+ Local Employers.\nFor more information about this event\, please visit our Facebook page.
URL:https://futureforward.org/event/2026-iron-range-job-volunteer-fair/2026-04-23/2/
LOCATION:Iron Trail Motors Event Center\, 919 6th Street South\, Virginia\, MN\, 55792\, United States
ATTACH;FMTTYPE=image/jpeg:https://futureforward.org/wp-content/uploads/2026/04/2026-IRJF-Program-JPG-768x994-1.jpg
ORGANIZER;CN="Teresa Appelwick":MAILTO:President@laurentianchamber.org
GEO:47.5179237;-92.5483818
X-APPLE-STRUCTURED-LOCATION;VALUE=URI;X-ADDRESS=Iron Trail Motors Event Center 919 6th Street South Virginia MN 55792 United States;X-APPLE-RADIUS=500;X-TITLE=919 6th Street South:geo:-92.5483818,47.5179237
END:VEVENT
END:VCALENDAR