BEGIN:VCALENDAR
VERSION:2.0
PRODID:-//FutureForward™ - ECPv6.15.17.1//NONSGML v1.0//EN
CALSCALE:GREGORIAN
METHOD:PUBLISH
X-ORIGINAL-URL:https://futureforward.org
X-WR-CALDESC:Events for FutureForward™
REFRESH-INTERVAL;VALUE=DURATION:PT1H
X-Robots-Tag:noindex
X-PUBLISHED-TTL:PT1H
BEGIN:VTIMEZONE
TZID:America/Chicago
BEGIN:DAYLIGHT
TZOFFSETFROM:-0600
TZOFFSETTO:-0500
TZNAME:CDT
DTSTART:20240310T080000
END:DAYLIGHT
BEGIN:STANDARD
TZOFFSETFROM:-0500
TZOFFSETTO:-0600
TZNAME:CST
DTSTART:20241103T070000
END:STANDARD
BEGIN:DAYLIGHT
TZOFFSETFROM:-0600
TZOFFSETTO:-0500
TZNAME:CDT
DTSTART:20250309T080000
END:DAYLIGHT
BEGIN:STANDARD
TZOFFSETFROM:-0500
TZOFFSETTO:-0600
TZNAME:CST
DTSTART:20251102T070000
END:STANDARD
BEGIN:DAYLIGHT
TZOFFSETFROM:-0600
TZOFFSETTO:-0500
TZNAME:CDT
DTSTART:20260308T080000
END:DAYLIGHT
BEGIN:STANDARD
TZOFFSETFROM:-0500
TZOFFSETTO:-0600
TZNAME:CST
DTSTART:20261101T070000
END:STANDARD
END:VTIMEZONE
BEGIN:VEVENT
DTSTART;VALUE=DATE:20251001
DTEND;VALUE=DATE:20251201
DTSTAMP:20260420T062743
CREATED:20250710T213534Z
LAST-MODIFIED:20250822T135203Z
UID:10000231-1759276800-1764547199@futureforward.org
SUMMARY:2025 FutureForward™ Manufacturing Month
DESCRIPTION:Manufacturing Month will feature:\n– In person and virtual tours\n– FutureForward™ links to manufacturers\n– Classroom speaker opportunities\n– Activities & classroom supplements\n– Connection to Construct Tomorrow
URL:https://futureforward.org/event/2025-futureforward-manufacturing-month/
LOCATION:Minnesota
ORGANIZER;CN="Southeast Service Cooperative":MAILTO:mschnell@ssc.coop
END:VEVENT
BEGIN:VEVENT
DTSTART;TZID=America/Chicago:20251014T163000
DTEND;TZID=America/Chicago:20251014T173000
DTSTAMP:20260420T062743
CREATED:20251009T155932Z
LAST-MODIFIED:20251009T155932Z
UID:10000275-1760459400-1760463000@futureforward.org
SUMMARY:Empowering the Next Generation: Mayo Clinic Career Opportunities
DESCRIPTION:Join us for an informative webinar on Mayo Clinic careers and education opportunities! \nWHO SHOULD ATTEND\nParents and Educators of high school students \nWHAT YOU WILL LEARN\n• Explore educational and career opportunities\navailable at Mayo Clinic.\n• Learn how to start preparing the next generation\nof professionals for successful careers in\nhealthcare. \nMore information on Career Exploration resources can be found at jobs.mayoclinic.org/exploration.
URL:https://futureforward.org/event/empowering-the-next-generation-mayo-clinic-career-opportunities/
LOCATION:Zoom
ATTACH;FMTTYPE=image/jpeg:https://futureforward.org/wp-content/uploads/2025/10/Webinar-3.jpg
END:VEVENT
END:VCALENDAR