BEGIN:VCALENDAR
VERSION:2.0
PRODID:-//FutureForward™ - ECPv6.15.17.1//NONSGML v1.0//EN
CALSCALE:GREGORIAN
METHOD:PUBLISH
X-ORIGINAL-URL:https://futureforward.org
X-WR-CALDESC:Events for FutureForward™
REFRESH-INTERVAL;VALUE=DURATION:PT1H
X-Robots-Tag:noindex
X-PUBLISHED-TTL:PT1H
BEGIN:VTIMEZONE
TZID:America/Chicago
BEGIN:DAYLIGHT
TZOFFSETFROM:-0600
TZOFFSETTO:-0500
TZNAME:CDT
DTSTART:20240310T080000
END:DAYLIGHT
BEGIN:STANDARD
TZOFFSETFROM:-0500
TZOFFSETTO:-0600
TZNAME:CST
DTSTART:20241103T070000
END:STANDARD
BEGIN:DAYLIGHT
TZOFFSETFROM:-0600
TZOFFSETTO:-0500
TZNAME:CDT
DTSTART:20250309T080000
END:DAYLIGHT
BEGIN:STANDARD
TZOFFSETFROM:-0500
TZOFFSETTO:-0600
TZNAME:CST
DTSTART:20251102T070000
END:STANDARD
BEGIN:DAYLIGHT
TZOFFSETFROM:-0600
TZOFFSETTO:-0500
TZNAME:CDT
DTSTART:20260308T080000
END:DAYLIGHT
BEGIN:STANDARD
TZOFFSETFROM:-0500
TZOFFSETTO:-0600
TZNAME:CST
DTSTART:20261101T070000
END:STANDARD
END:VTIMEZONE
BEGIN:VEVENT
DTSTART;TZID=America/Chicago:20250804T080000
DTEND;TZID=America/Chicago:20250915T120000
DTSTAMP:20260423T083743
CREATED:20250522T145619Z
LAST-MODIFIED:20250522T145619Z
UID:10000221-1754294400-1757937600@futureforward.org
SUMMARY:Range Youth Police Academy
DESCRIPTION:Range Youth Police Academy is a seven week course\, open to youth between eighth and 12th grade. This includes juveniles who are going into eighth grade as well as those who have graduated this year. \nThe academy is from 8 a.m. to noon\, starting Monday\, July 7\, and runs for seven consecutive Mondays. Cost is free. \n“This is a 7 week summer training for youths to give them an inside perspective of the legal system\,” Hibbing Police Investigator Rachael Shiek wrote in a news release. “Youths would be trained in courtroom procedures\, defensive tactics\, de-escalation techniques\, radio communications\, evidence collection and processing\, first aid / CPR (would receive a certificate from the state for this training) and much more.” \n“The youth police academy is an innovative program that provides young people on the Range with an opportunity to train with police officers during the summer\,” Shiek continued. “This helps to lead to positive relationships between the police department and the city’s youth. The youth police academy enhances responsible citizenship\, provides positive interaction with police officers and educates young people about challenges and responsibilities of police work. The academy includes structured activities designed to highlight cardinal work principles; teamwork\, leadership\, communication and problem solving/conflict resolution.” \nRegistration is required (see registration link).
URL:https://futureforward.org/event/range-youth-police-academy/2025-08-04/
LOCATION:Hibbing Police Department
ORGANIZER;CN="Rachael Shiek":MAILTO:rachaelshiek@hibbingmn.gov
END:VEVENT
BEGIN:VEVENT
DTSTART;TZID=America/Chicago:20250811T080000
DTEND;TZID=America/Chicago:20250922T120000
DTSTAMP:20260423T083743
CREATED:20250522T145619Z
LAST-MODIFIED:20250522T145619Z
UID:10000222-1754899200-1758542400@futureforward.org
SUMMARY:Range Youth Police Academy
DESCRIPTION:Range Youth Police Academy is a seven week course\, open to youth between eighth and 12th grade. This includes juveniles who are going into eighth grade as well as those who have graduated this year. \nThe academy is from 8 a.m. to noon\, starting Monday\, July 7\, and runs for seven consecutive Mondays. Cost is free. \n“This is a 7 week summer training for youths to give them an inside perspective of the legal system\,” Hibbing Police Investigator Rachael Shiek wrote in a news release. “Youths would be trained in courtroom procedures\, defensive tactics\, de-escalation techniques\, radio communications\, evidence collection and processing\, first aid / CPR (would receive a certificate from the state for this training) and much more.” \n“The youth police academy is an innovative program that provides young people on the Range with an opportunity to train with police officers during the summer\,” Shiek continued. “This helps to lead to positive relationships between the police department and the city’s youth. The youth police academy enhances responsible citizenship\, provides positive interaction with police officers and educates young people about challenges and responsibilities of police work. The academy includes structured activities designed to highlight cardinal work principles; teamwork\, leadership\, communication and problem solving/conflict resolution.” \nRegistration is required (see registration link).
URL:https://futureforward.org/event/range-youth-police-academy/2025-08-11/
LOCATION:Hibbing Police Department
ORGANIZER;CN="Rachael Shiek":MAILTO:rachaelshiek@hibbingmn.gov
END:VEVENT
BEGIN:VEVENT
DTSTART;TZID=America/Chicago:20250818T080000
DTEND;TZID=America/Chicago:20250929T120000
DTSTAMP:20260423T083743
CREATED:20250522T145619Z
LAST-MODIFIED:20250522T145619Z
UID:10000223-1755504000-1759147200@futureforward.org
SUMMARY:Range Youth Police Academy
DESCRIPTION:Range Youth Police Academy is a seven week course\, open to youth between eighth and 12th grade. This includes juveniles who are going into eighth grade as well as those who have graduated this year. \nThe academy is from 8 a.m. to noon\, starting Monday\, July 7\, and runs for seven consecutive Mondays. Cost is free. \n“This is a 7 week summer training for youths to give them an inside perspective of the legal system\,” Hibbing Police Investigator Rachael Shiek wrote in a news release. “Youths would be trained in courtroom procedures\, defensive tactics\, de-escalation techniques\, radio communications\, evidence collection and processing\, first aid / CPR (would receive a certificate from the state for this training) and much more.” \n“The youth police academy is an innovative program that provides young people on the Range with an opportunity to train with police officers during the summer\,” Shiek continued. “This helps to lead to positive relationships between the police department and the city’s youth. The youth police academy enhances responsible citizenship\, provides positive interaction with police officers and educates young people about challenges and responsibilities of police work. The academy includes structured activities designed to highlight cardinal work principles; teamwork\, leadership\, communication and problem solving/conflict resolution.” \nRegistration is required (see registration link).
URL:https://futureforward.org/event/range-youth-police-academy/2025-08-18/
LOCATION:Hibbing Police Department
ORGANIZER;CN="Rachael Shiek":MAILTO:rachaelshiek@hibbingmn.gov
END:VEVENT
BEGIN:VEVENT
DTSTART;TZID=America/Chicago:20250915T090000
DTEND;TZID=America/Chicago:20250915T103000
DTSTAMP:20260423T083743
CREATED:20250718T141732Z
LAST-MODIFIED:20250902T175141Z
UID:10000236-1757926800-1757932200@futureforward.org
SUMMARY:2025 MN Education Fair - Warroad High School
DESCRIPTION:Who comes to a Minnesota Education Fair?\nAnyone interested in postsecondary education and military opportunities is welcome to attend a Minnesota Education Fair. Most high schools in Minnesota will be invited to attend a specific program based on the school’s proximity to a MEF site. Prior to each MEF\, the Site Coordinator will provide site-specific information to area high schools and participating postsecondary institution. \nFutureForward’s Suggested Questions to Ask \nREGISTER BEFORE YOU GO TO THE FAIR!\nStudents attending the fairs go to the registration page at www.StriveFair.com and fill out a quick form on their phone or computer (in advance or at the door). When they sign up\, StriveScan sends them a barcode via text message and email. The next day\, students receive an email with a report on all of the colleges and representatives they met along with their contact information and social media profiles. There is no cost for students. \nDon’t forget to pre-register your personal information online! Sign up for a barcode at StriveFair.com.
URL:https://futureforward.org/event/2025-mn-education-fair-warroad-high-school/
LOCATION:Warroad High School\, 510 Cedar Ave NW\, Warroad\, 56763\, United States
ATTACH;FMTTYPE=image/png:https://futureforward.org/wp-content/uploads/2023/09/MACAC.png
ORGANIZER;CN="Minnesota Association for College Admission Counseling":MAILTO:membersupport@mn-acac.org
END:VEVENT
BEGIN:VEVENT
DTSTART;TZID=America/Chicago:20250915T130000
DTEND;TZID=America/Chicago:20250915T143000
DTSTAMP:20260423T083743
CREATED:20250718T142334Z
LAST-MODIFIED:20250902T175212Z
UID:10000237-1757941200-1757946600@futureforward.org
SUMMARY:2025 MN Education Fair - Northland Community & Technical College - Thief River Falls
DESCRIPTION:Who comes to a Minnesota Education Fair?\nAnyone interested in postsecondary education and military opportunities is welcome to attend a Minnesota Education Fair. Most high schools in Minnesota will be invited to attend a specific program based on the school’s proximity to a MEF site. Prior to each MEF\, the Site Coordinator will provide site-specific information to area high schools and participating postsecondary institution. \nFutureForward’s Suggested Questions to Ask \nREGISTER BEFORE YOU GO TO THE FAIR!\nStudents attending the fairs go to the registration page at www.StriveFair.com and fill out a quick form on their phone or computer (in advance or at the door). When they sign up\, StriveScan sends them a barcode via text message and email. The next day\, students receive an email with a report on all of the colleges and representatives they met along with their contact information and social media profiles. There is no cost for students. \nDon’t forget to pre-register your personal information online! Sign up for a barcode at StriveFair.com.
URL:https://futureforward.org/event/2025-mn-education-fair-northland-community-and-technical-college-thief-river-falls/
LOCATION:Northland Community & Technical College – Thief River Falls\, 1101 State Hwy 1\, Thief River Falls\, MN\, 56701\, United States
ATTACH;FMTTYPE=image/png:https://futureforward.org/wp-content/uploads/2023/09/MACAC.png
ORGANIZER;CN="Minnesota Association for College Admission Counseling":MAILTO:membersupport@mn-acac.org
END:VEVENT
END:VCALENDAR